BEGIN:VCALENDAR
VERSION:2.0
PRODID:-//The Wallace Centers of Iowa - ECPv6.15.17.1//NONSGML v1.0//EN
CALSCALE:GREGORIAN
METHOD:PUBLISH
X-WR-CALNAME:The Wallace Centers of Iowa
X-ORIGINAL-URL:https://wallace.org
X-WR-CALDESC:Events for The Wallace Centers of Iowa
REFRESH-INTERVAL;VALUE=DURATION:PT1H
X-Robots-Tag:noindex
X-PUBLISHED-TTL:PT1H
BEGIN:VTIMEZONE
TZID:America/Toronto
BEGIN:DAYLIGHT
TZOFFSETFROM:-0500
TZOFFSETTO:-0400
TZNAME:EDT
DTSTART:20250309T070000
END:DAYLIGHT
BEGIN:STANDARD
TZOFFSETFROM:-0400
TZOFFSETTO:-0500
TZNAME:EST
DTSTART:20251102T060000
END:STANDARD
BEGIN:DAYLIGHT
TZOFFSETFROM:-0500
TZOFFSETTO:-0400
TZNAME:EDT
DTSTART:20260308T070000
END:DAYLIGHT
BEGIN:STANDARD
TZOFFSETFROM:-0400
TZOFFSETTO:-0500
TZNAME:EST
DTSTART:20261101T060000
END:STANDARD
BEGIN:DAYLIGHT
TZOFFSETFROM:-0500
TZOFFSETTO:-0400
TZNAME:EDT
DTSTART:20270314T070000
END:DAYLIGHT
BEGIN:STANDARD
TZOFFSETFROM:-0400
TZOFFSETTO:-0500
TZNAME:EST
DTSTART:20271107T060000
END:STANDARD
END:VTIMEZONE
BEGIN:VEVENT
DTSTART;TZID=America/Toronto:20260828T180000
DTEND;TZID=America/Toronto:20260828T203000
DTSTAMP:20260425T091518
CREATED:20260416T162018Z
LAST-MODIFIED:20260416T162018Z
UID:41864-1787940000-1787949000@wallace.org
SUMMARY:Historic Corn Plot Dinner - 100 Years of Pioneer
DESCRIPTION:Each course of this special meal at the Wallace Farm includes corn as a featured ingredient. Previously harvested from the on-site Henry A. Wallace Historic Corn Plot\, field corn is ground into cornmeal\, corn flour and corn grits. Doors open at 6 pm\, dinner begins at 6:30 pm. Wine\, beer & signature cocktails available for purchase. \nYou’re encouraged to arrive early to walk the grounds\, see this year’s corn plot and view the new prairie art exhibit. In order to welcome as many people as possible\, this event is community seating. Special guests will join us this year to share more about origins of Pioneer Hi-Bred and Henry A. Wallace as we celebrate 100 years since Henry A. founded the company. \nMenu\nAnnounced in June
URL:https://wallace.org/event/historic-corn-plot-dinner-100-years-of-pioneer/
LOCATION:Wallace Farm\, 2773 290th Street\, Orient\, Iowa\, 50858
CATEGORIES:Corn Dinner,Farm to Table Dining
END:VEVENT
END:VCALENDAR